BEGIN:VCALENDAR
VERSION:2.0
PRODID:-//Spanish Wells Golf &amp; Country Club - ECPv6.15.18//NONSGML v1.0//EN
CALSCALE:GREGORIAN
METHOD:PUBLISH
X-WR-CALNAME:Spanish Wells Golf &amp; Country Club
X-ORIGINAL-URL:https://www.spanishwellscountryclub.com
X-WR-CALDESC:Events for Spanish Wells Golf &amp; Country Club
REFRESH-INTERVAL;VALUE=DURATION:PT1H
X-Robots-Tag:noindex
X-PUBLISHED-TTL:PT1H
BEGIN:VTIMEZONE
TZID:UTC
BEGIN:STANDARD
TZOFFSETFROM:+0000
TZOFFSETTO:+0000
TZNAME:UTC
DTSTART:20250101T000000
END:STANDARD
END:VTIMEZONE
BEGIN:VEVENT
DTSTART;TZID=UTC:20260709T103000
DTEND;TZID=UTC:20260709T120000
DTSTAMP:20260425T135423
CREATED:20251211T192648Z
LAST-MODIFIED:20251211T192750Z
UID:10000067-1783593000-1783598400@www.spanishwellscountryclub.com
SUMMARY:Ladies Pickleball Open Play
DESCRIPTION:Come join the fun! Whether you’re a beginner or an experienced player\, come out and enjoy a fun\, friendly\, and supportive environment at our Ladies Open Play! It’s a great opportunity to improve your skills\, get some exercise\, and connect with our pickleball community
URL:https://www.spanishwellscountryclub.com/event/ladies-pickleball-open-play/2026-07-09/
END:VEVENT
BEGIN:VEVENT
DTSTART;TZID=UTC:20260707T103000
DTEND;TZID=UTC:20260707T120000
DTSTAMP:20260425T135423
CREATED:20251211T192648Z
LAST-MODIFIED:20251211T192750Z
UID:10000066-1783420200-1783425600@www.spanishwellscountryclub.com
SUMMARY:Ladies Pickleball Open Play
DESCRIPTION:Come join the fun! Whether you’re a beginner or an experienced player\, come out and enjoy a fun\, friendly\, and supportive environment at our Ladies Open Play! It’s a great opportunity to improve your skills\, get some exercise\, and connect with our pickleball community
URL:https://www.spanishwellscountryclub.com/event/ladies-pickleball-open-play/2026-07-07/
END:VEVENT
BEGIN:VEVENT
DTSTART;TZID=UTC:20260702T103000
DTEND;TZID=UTC:20260702T120000
DTSTAMP:20260425T135423
CREATED:20251211T192648Z
LAST-MODIFIED:20251211T192750Z
UID:10000065-1782988200-1782993600@www.spanishwellscountryclub.com
SUMMARY:Ladies Pickleball Open Play
DESCRIPTION:Come join the fun! Whether you’re a beginner or an experienced player\, come out and enjoy a fun\, friendly\, and supportive environment at our Ladies Open Play! It’s a great opportunity to improve your skills\, get some exercise\, and connect with our pickleball community
URL:https://www.spanishwellscountryclub.com/event/ladies-pickleball-open-play/2026-07-02/
END:VEVENT
BEGIN:VEVENT
DTSTART;TZID=UTC:20260630T103000
DTEND;TZID=UTC:20260630T120000
DTSTAMP:20260425T135423
CREATED:20251211T192648Z
LAST-MODIFIED:20251211T192750Z
UID:10000064-1782815400-1782820800@www.spanishwellscountryclub.com
SUMMARY:Ladies Pickleball Open Play
DESCRIPTION:Come join the fun! Whether you’re a beginner or an experienced player\, come out and enjoy a fun\, friendly\, and supportive environment at our Ladies Open Play! It’s a great opportunity to improve your skills\, get some exercise\, and connect with our pickleball community
URL:https://www.spanishwellscountryclub.com/event/ladies-pickleball-open-play/2026-06-30/
END:VEVENT
BEGIN:VEVENT
DTSTART;TZID=UTC:20260625T103000
DTEND;TZID=UTC:20260625T120000
DTSTAMP:20260425T135423
CREATED:20251211T192648Z
LAST-MODIFIED:20251211T192750Z
UID:10000063-1782383400-1782388800@www.spanishwellscountryclub.com
SUMMARY:Ladies Pickleball Open Play
DESCRIPTION:Come join the fun! Whether you’re a beginner or an experienced player\, come out and enjoy a fun\, friendly\, and supportive environment at our Ladies Open Play! It’s a great opportunity to improve your skills\, get some exercise\, and connect with our pickleball community
URL:https://www.spanishwellscountryclub.com/event/ladies-pickleball-open-play/2026-06-25/
END:VEVENT
BEGIN:VEVENT
DTSTART;TZID=UTC:20260623T103000
DTEND;TZID=UTC:20260623T120000
DTSTAMP:20260425T135423
CREATED:20251211T192648Z
LAST-MODIFIED:20251211T192750Z
UID:10000062-1782210600-1782216000@www.spanishwellscountryclub.com
SUMMARY:Ladies Pickleball Open Play
DESCRIPTION:Come join the fun! Whether you’re a beginner or an experienced player\, come out and enjoy a fun\, friendly\, and supportive environment at our Ladies Open Play! It’s a great opportunity to improve your skills\, get some exercise\, and connect with our pickleball community
URL:https://www.spanishwellscountryclub.com/event/ladies-pickleball-open-play/2026-06-23/
END:VEVENT
BEGIN:VEVENT
DTSTART;TZID=UTC:20260618T103000
DTEND;TZID=UTC:20260618T120000
DTSTAMP:20260425T135423
CREATED:20251211T192648Z
LAST-MODIFIED:20251211T192750Z
UID:10000061-1781778600-1781784000@www.spanishwellscountryclub.com
SUMMARY:Ladies Pickleball Open Play
DESCRIPTION:Come join the fun! Whether you’re a beginner or an experienced player\, come out and enjoy a fun\, friendly\, and supportive environment at our Ladies Open Play! It’s a great opportunity to improve your skills\, get some exercise\, and connect with our pickleball community
URL:https://www.spanishwellscountryclub.com/event/ladies-pickleball-open-play/2026-06-18/
END:VEVENT
BEGIN:VEVENT
DTSTART;TZID=UTC:20260616T103000
DTEND;TZID=UTC:20260616T120000
DTSTAMP:20260425T135423
CREATED:20251211T192648Z
LAST-MODIFIED:20251211T192750Z
UID:10000060-1781605800-1781611200@www.spanishwellscountryclub.com
SUMMARY:Ladies Pickleball Open Play
DESCRIPTION:Come join the fun! Whether you’re a beginner or an experienced player\, come out and enjoy a fun\, friendly\, and supportive environment at our Ladies Open Play! It’s a great opportunity to improve your skills\, get some exercise\, and connect with our pickleball community
URL:https://www.spanishwellscountryclub.com/event/ladies-pickleball-open-play/2026-06-16/
END:VEVENT
BEGIN:VEVENT
DTSTART;TZID=UTC:20260611T103000
DTEND;TZID=UTC:20260611T120000
DTSTAMP:20260425T135423
CREATED:20251211T192648Z
LAST-MODIFIED:20251211T192750Z
UID:10000059-1781173800-1781179200@www.spanishwellscountryclub.com
SUMMARY:Ladies Pickleball Open Play
DESCRIPTION:Come join the fun! Whether you’re a beginner or an experienced player\, come out and enjoy a fun\, friendly\, and supportive environment at our Ladies Open Play! It’s a great opportunity to improve your skills\, get some exercise\, and connect with our pickleball community
URL:https://www.spanishwellscountryclub.com/event/ladies-pickleball-open-play/2026-06-11/
END:VEVENT
BEGIN:VEVENT
DTSTART;TZID=UTC:20260609T103000
DTEND;TZID=UTC:20260609T120000
DTSTAMP:20260425T135423
CREATED:20251211T192648Z
LAST-MODIFIED:20251211T192750Z
UID:10000058-1781001000-1781006400@www.spanishwellscountryclub.com
SUMMARY:Ladies Pickleball Open Play
DESCRIPTION:Come join the fun! Whether you’re a beginner or an experienced player\, come out and enjoy a fun\, friendly\, and supportive environment at our Ladies Open Play! It’s a great opportunity to improve your skills\, get some exercise\, and connect with our pickleball community
URL:https://www.spanishwellscountryclub.com/event/ladies-pickleball-open-play/2026-06-09/
END:VEVENT
BEGIN:VEVENT
DTSTART;TZID=UTC:20260604T103000
DTEND;TZID=UTC:20260604T120000
DTSTAMP:20260425T135423
CREATED:20251211T192648Z
LAST-MODIFIED:20251211T192750Z
UID:10000057-1780569000-1780574400@www.spanishwellscountryclub.com
SUMMARY:Ladies Pickleball Open Play
DESCRIPTION:Come join the fun! Whether you’re a beginner or an experienced player\, come out and enjoy a fun\, friendly\, and supportive environment at our Ladies Open Play! It’s a great opportunity to improve your skills\, get some exercise\, and connect with our pickleball community
URL:https://www.spanishwellscountryclub.com/event/ladies-pickleball-open-play/2026-06-04/
END:VEVENT
BEGIN:VEVENT
DTSTART;TZID=UTC:20260602T103000
DTEND;TZID=UTC:20260602T120000
DTSTAMP:20260425T135423
CREATED:20251211T192648Z
LAST-MODIFIED:20251211T192750Z
UID:10000056-1780396200-1780401600@www.spanishwellscountryclub.com
SUMMARY:Ladies Pickleball Open Play
DESCRIPTION:Come join the fun! Whether you’re a beginner or an experienced player\, come out and enjoy a fun\, friendly\, and supportive environment at our Ladies Open Play! It’s a great opportunity to improve your skills\, get some exercise\, and connect with our pickleball community
URL:https://www.spanishwellscountryclub.com/event/ladies-pickleball-open-play/2026-06-02/
END:VEVENT
BEGIN:VEVENT
DTSTART;TZID=UTC:20260529T170000
DTEND;TZID=UTC:20260529T190000
DTSTAMP:20260425T135423
CREATED:20260424T183655Z
LAST-MODIFIED:20260424T183659Z
UID:10000537-1780074000-1780081200@www.spanishwellscountryclub.com
SUMMARY:Fish Fry
DESCRIPTION:A classic fish fry featuring beer-battered haddock and all the traditional sides\, with a lighter citrus herb option available as well.
URL:https://www.spanishwellscountryclub.com/event/fish-fry/
ATTACH;FMTTYPE=image/png:https://www.spanishwellscountryclub.com/wp-content/uploads/sites/9743/2026/04/4_05-29-26-FISH-FRY-e1777055787393.png
END:VEVENT
BEGIN:VEVENT
DTSTART;TZID=UTC:20260528T103000
DTEND;TZID=UTC:20260528T120000
DTSTAMP:20260425T135423
CREATED:20251211T192648Z
LAST-MODIFIED:20251211T192750Z
UID:10000055-1779964200-1779969600@www.spanishwellscountryclub.com
SUMMARY:Ladies Pickleball Open Play
DESCRIPTION:Come join the fun! Whether you’re a beginner or an experienced player\, come out and enjoy a fun\, friendly\, and supportive environment at our Ladies Open Play! It’s a great opportunity to improve your skills\, get some exercise\, and connect with our pickleball community
URL:https://www.spanishwellscountryclub.com/event/ladies-pickleball-open-play/2026-05-28/
END:VEVENT
BEGIN:VEVENT
DTSTART;TZID=UTC:20260527T170000
DTEND;TZID=UTC:20260527T170000
DTSTAMP:20260425T135423
CREATED:20260424T183405Z
LAST-MODIFIED:20260424T183408Z
UID:10000536-1779901200-1779901200@www.spanishwellscountryclub.com
SUMMARY:Trivia Night
DESCRIPTION:Grab a team and test your knowledge in a fun\, fast-paced trivia night… with an optional fiesta add-on to keep the night going. \n\n\n\n$10 buy-in\, cash only.
URL:https://www.spanishwellscountryclub.com/event/trivia-night/
ATTACH;FMTTYPE=image/png:https://www.spanishwellscountryclub.com/wp-content/uploads/sites/9743/2026/04/3_05-27-26-Trivia-e1777055620615.png
END:VEVENT
BEGIN:VEVENT
DTSTART;TZID=UTC:20260526T103000
DTEND;TZID=UTC:20260526T120000
DTSTAMP:20260425T135423
CREATED:20251211T192648Z
LAST-MODIFIED:20251211T192750Z
UID:10000054-1779791400-1779796800@www.spanishwellscountryclub.com
SUMMARY:Ladies Pickleball Open Play
DESCRIPTION:Come join the fun! Whether you’re a beginner or an experienced player\, come out and enjoy a fun\, friendly\, and supportive environment at our Ladies Open Play! It’s a great opportunity to improve your skills\, get some exercise\, and connect with our pickleball community
URL:https://www.spanishwellscountryclub.com/event/ladies-pickleball-open-play/2026-05-26/
END:VEVENT
BEGIN:VEVENT
DTSTART;TZID=UTC:20260524T130000
DTEND;TZID=UTC:20260524T150000
DTSTAMP:20260425T135423
CREATED:20260424T181942Z
LAST-MODIFIED:20260424T181945Z
UID:10000535-1779627600-1779634800@www.spanishwellscountryclub.com
SUMMARY:Memorial Day BBQ
DESCRIPTION:Kick off the holiday with a classic backyard-style BBQ featuring smoked favorites\, seasonal sides\, and a festive dessert bar… plus a relaxed\, patriotic atmosphere to celebrate the day.
URL:https://www.spanishwellscountryclub.com/event/memorial-day-bbq/
ATTACH;FMTTYPE=image/png:https://www.spanishwellscountryclub.com/wp-content/uploads/sites/9743/2026/04/05-24-26-Memorial-Day-BBQ-e1777054754458.png
END:VEVENT
BEGIN:VEVENT
DTSTART;TZID=UTC:20260522T170000
DTEND;TZID=UTC:20260522T190000
DTSTAMP:20260425T135423
CREATED:20260424T181217Z
LAST-MODIFIED:20260424T181321Z
UID:10000534-1779469200-1779476400@www.spanishwellscountryclub.com
SUMMARY:Prime Rib Dinner
DESCRIPTION:Enjoy a three-course dining experience featuring a classic starter\, your choice of entrée\, and a delicious dessert to finish the night.
URL:https://www.spanishwellscountryclub.com/event/prime-rib-dinner/
ATTACH;FMTTYPE=image/png:https://www.spanishwellscountryclub.com/wp-content/uploads/sites/9743/2026/04/1_05-22-26-prime-rib-night-e1777054382341.png
END:VEVENT
BEGIN:VEVENT
DTSTART;TZID=UTC:20260521T103000
DTEND;TZID=UTC:20260521T120000
DTSTAMP:20260425T135423
CREATED:20251211T192648Z
LAST-MODIFIED:20251211T192750Z
UID:10000053-1779359400-1779364800@www.spanishwellscountryclub.com
SUMMARY:Ladies Pickleball Open Play
DESCRIPTION:Come join the fun! Whether you’re a beginner or an experienced player\, come out and enjoy a fun\, friendly\, and supportive environment at our Ladies Open Play! It’s a great opportunity to improve your skills\, get some exercise\, and connect with our pickleball community
URL:https://www.spanishwellscountryclub.com/event/ladies-pickleball-open-play/2026-05-21/
END:VEVENT
BEGIN:VEVENT
DTSTART;TZID=UTC:20260519T103000
DTEND;TZID=UTC:20260519T120000
DTSTAMP:20260425T135423
CREATED:20251211T192648Z
LAST-MODIFIED:20251211T192750Z
UID:10000052-1779186600-1779192000@www.spanishwellscountryclub.com
SUMMARY:Ladies Pickleball Open Play
DESCRIPTION:Come join the fun! Whether you’re a beginner or an experienced player\, come out and enjoy a fun\, friendly\, and supportive environment at our Ladies Open Play! It’s a great opportunity to improve your skills\, get some exercise\, and connect with our pickleball community
URL:https://www.spanishwellscountryclub.com/event/ladies-pickleball-open-play/2026-05-19/
END:VEVENT
BEGIN:VEVENT
DTSTART;TZID=UTC:20260519T080000
DTEND;TZID=UTC:20260519T170000
DTSTAMP:20260425T135423
CREATED:20260424T191750Z
LAST-MODIFIED:20260424T191754Z
UID:10000540-1779177600-1779210000@www.spanishwellscountryclub.com
SUMMARY:Pickleball Play with the Pro
DESCRIPTION:Join Dominic on the court for live gameplay\, strategy\, and real-time coaching in a fun\, hands-on setting. \n\n\n\nEmail Dominic at dominic.dent@spanishwellscountryclub.com to sign up.
URL:https://www.spanishwellscountryclub.com/event/pickleball-play-with-the-pro/2026-05-19/
ATTACH;FMTTYPE=image/png:https://www.spanishwellscountryclub.com/wp-content/uploads/sites/9743/2026/04/05-2026-Pickleball-Play-with-the-Pro-e1777058248481.png
END:VEVENT
BEGIN:VEVENT
DTSTART;TZID=UTC:20260516T170000
DTEND;TZID=UTC:20260516T190000
DTSTAMP:20260425T135423
CREATED:20260424T181003Z
LAST-MODIFIED:20260424T181006Z
UID:10000533-1778950800-1778958000@www.spanishwellscountryclub.com
SUMMARY:Italian Night
DESCRIPTION:Enjoy a classic Italian evening with a chef-attended pasta bar\, flavorful starters\, and indulgent desserts… plus live music by Anthony Natiello to set the tone.
URL:https://www.spanishwellscountryclub.com/event/italian-night/
ATTACH;FMTTYPE=image/png:https://www.spanishwellscountryclub.com/wp-content/uploads/sites/9743/2026/04/05-16-26-Italian-Night-e1777054193870.png
END:VEVENT
BEGIN:VEVENT
DTSTART;TZID=UTC:20260514T190000
DTEND;TZID=UTC:20260514T203000
DTSTAMP:20260425T135423
CREATED:20260424T180609Z
LAST-MODIFIED:20260424T180644Z
UID:10000532-1778785200-1778790600@www.spanishwellscountryclub.com
SUMMARY:Sunset Yoga
DESCRIPTION:Unwind at the beach with a relaxing sunset yoga session… the perfect way to breathe\, stretch\, and reset as the day comes to a close. Email Casey at ckelley@spanishwellscountryclub.com to sign up!
URL:https://www.spanishwellscountryclub.com/event/sunset-yoga/
ATTACH;FMTTYPE=image/png:https://www.spanishwellscountryclub.com/wp-content/uploads/sites/9743/2026/04/05-14-26-Sunset-Yoga-e1777053950931.png
END:VEVENT
BEGIN:VEVENT
DTSTART;TZID=UTC:20260514T103000
DTEND;TZID=UTC:20260514T120000
DTSTAMP:20260425T135423
CREATED:20251211T192648Z
LAST-MODIFIED:20251211T192750Z
UID:10000051-1778754600-1778760000@www.spanishwellscountryclub.com
SUMMARY:Ladies Pickleball Open Play
DESCRIPTION:Come join the fun! Whether you’re a beginner or an experienced player\, come out and enjoy a fun\, friendly\, and supportive environment at our Ladies Open Play! It’s a great opportunity to improve your skills\, get some exercise\, and connect with our pickleball community
URL:https://www.spanishwellscountryclub.com/event/ladies-pickleball-open-play/2026-05-14/
END:VEVENT
BEGIN:VEVENT
DTSTART;TZID=UTC:20260512T103000
DTEND;TZID=UTC:20260512T120000
DTSTAMP:20260425T135423
CREATED:20251211T192648Z
LAST-MODIFIED:20251211T192750Z
UID:10000050-1778581800-1778587200@www.spanishwellscountryclub.com
SUMMARY:Ladies Pickleball Open Play
DESCRIPTION:Come join the fun! Whether you’re a beginner or an experienced player\, come out and enjoy a fun\, friendly\, and supportive environment at our Ladies Open Play! It’s a great opportunity to improve your skills\, get some exercise\, and connect with our pickleball community
URL:https://www.spanishwellscountryclub.com/event/ladies-pickleball-open-play/2026-05-12/
END:VEVENT
BEGIN:VEVENT
DTSTART;TZID=UTC:20260512T080000
DTEND;TZID=UTC:20260512T170000
DTSTAMP:20260425T135423
CREATED:20260424T191750Z
LAST-MODIFIED:20260424T191754Z
UID:10000539-1778572800-1778605200@www.spanishwellscountryclub.com
SUMMARY:Pickleball Play with the Pro
DESCRIPTION:Join Dominic on the court for live gameplay\, strategy\, and real-time coaching in a fun\, hands-on setting. \n\n\n\nEmail Dominic at dominic.dent@spanishwellscountryclub.com to sign up.
URL:https://www.spanishwellscountryclub.com/event/pickleball-play-with-the-pro/2026-05-12/
ATTACH;FMTTYPE=image/png:https://www.spanishwellscountryclub.com/wp-content/uploads/sites/9743/2026/04/05-2026-Pickleball-Play-with-the-Pro-e1777058248481.png
END:VEVENT
BEGIN:VEVENT
DTSTART;TZID=UTC:20260510T110000
DTEND;TZID=UTC:20260510T140000
DTSTAMP:20260425T135423
CREATED:20260424T175828Z
LAST-MODIFIED:20260424T175832Z
UID:10000531-1778410800-1778421600@www.spanishwellscountryclub.com
SUMMARY:Mother's Day Brunch
DESCRIPTION:Celebrate Mother’s Day with a beautiful brunch featuring chef-attended stations\, classic breakfast favorites\, and a full spread the whole family will enjoy… plus plenty of desserts to finish it off.
URL:https://www.spanishwellscountryclub.com/event/mothers-day-brunch/
ATTACH;FMTTYPE=image/png:https://www.spanishwellscountryclub.com/wp-content/uploads/sites/9743/2026/04/05-10-26-Mothers-Day-Brunch-Menu-e1777053498602.png
END:VEVENT
BEGIN:VEVENT
DTSTART;TZID=UTC:20260507T103000
DTEND;TZID=UTC:20260507T120000
DTSTAMP:20260425T135423
CREATED:20251211T192648Z
LAST-MODIFIED:20251211T192750Z
UID:10000049-1778149800-1778155200@www.spanishwellscountryclub.com
SUMMARY:Ladies Pickleball Open Play
DESCRIPTION:Come join the fun! Whether you’re a beginner or an experienced player\, come out and enjoy a fun\, friendly\, and supportive environment at our Ladies Open Play! It’s a great opportunity to improve your skills\, get some exercise\, and connect with our pickleball community
URL:https://www.spanishwellscountryclub.com/event/ladies-pickleball-open-play/2026-05-07/
END:VEVENT
BEGIN:VEVENT
DTSTART;TZID=UTC:20260505T170000
DTEND;TZID=UTC:20260505T200000
DTSTAMP:20260425T135423
CREATED:20260424T175352Z
LAST-MODIFIED:20260424T175356Z
UID:10000530-1778000400-1778011200@www.spanishwellscountryclub.com
SUMMARY:Cinco de Mayo BINGO
DESCRIPTION:Celebrate with a festive evening of great food and bingo\, featuring a taco bar\, classic favorites\, and a fun\, lively atmosphere!
URL:https://www.spanishwellscountryclub.com/event/cinco-de-mayo-bingo/
ATTACH;FMTTYPE=image/png:https://www.spanishwellscountryclub.com/wp-content/uploads/sites/9743/2026/04/2_05-05-26-CINCO-DE-MAYO-Bingo-e1777053221924.png
END:VEVENT
BEGIN:VEVENT
DTSTART;TZID=UTC:20260505T103000
DTEND;TZID=UTC:20260505T120000
DTSTAMP:20260425T135423
CREATED:20251211T192648Z
LAST-MODIFIED:20251211T192750Z
UID:10000048-1777977000-1777982400@www.spanishwellscountryclub.com
SUMMARY:Ladies Pickleball Open Play
DESCRIPTION:Come join the fun! Whether you’re a beginner or an experienced player\, come out and enjoy a fun\, friendly\, and supportive environment at our Ladies Open Play! It’s a great opportunity to improve your skills\, get some exercise\, and connect with our pickleball community
URL:https://www.spanishwellscountryclub.com/event/ladies-pickleball-open-play/2026-05-05/
END:VEVENT
END:VCALENDAR